BEGIN:VCALENDAR
VERSION:2.0
PRODID:-//Sligo Library - ECPv6.15.18//NONSGML v1.0//EN
CALSCALE:GREGORIAN
METHOD:PUBLISH
X-WR-CALNAME:Sligo Library
X-ORIGINAL-URL:https://sligolibrary.ie
X-WR-CALDESC:Events for Sligo Library
REFRESH-INTERVAL;VALUE=DURATION:PT1H
X-Robots-Tag:noindex
X-PUBLISHED-TTL:PT1H
BEGIN:VTIMEZONE
TZID:UTC
BEGIN:STANDARD
TZOFFSETFROM:+0000
TZOFFSETTO:+0000
TZNAME:UTC
DTSTART:20230101T000000
END:STANDARD
END:VTIMEZONE
BEGIN:VEVENT
DTSTART;TZID=UTC:20240719T100000
DTEND;TZID=UTC:20240719T103000
DTSTAMP:20260419T123016
CREATED:20240625T104903Z
LAST-MODIFIED:20240625T104903Z
UID:16825-1721383200-1721385000@sligolibrary.ie
SUMMARY:Toddle Storytime
DESCRIPTION:Please join us for Toddle Time Story Time at Sligo Central Library \nFriday 19th July @ 10am \nAges 0-4 \nNo Booking Required
URL:https://sligolibrary.ie/event/toddle-storytime-11/
LOCATION:sligo central
CATEGORIES:Sligo Central Library
END:VEVENT
BEGIN:VEVENT
DTSTART;TZID=UTC:20240719T150000
DTEND;TZID=UTC:20240719T154500
DTSTAMP:20260419T123016
CREATED:20240625T105718Z
LAST-MODIFIED:20240625T105718Z
UID:16853-1721401200-1721403900@sligolibrary.ie
SUMMARY:Children's Book Club
DESCRIPTION:Runs weekly July 5th – August 9th. Ages 9+ \n  \nBooking Required \nContact 071 911 1675 or sligolib@sligococo.ie
URL:https://sligolibrary.ie/event/childrens-book-club-3/
CATEGORIES:Sligo Central Library
END:VEVENT
END:VCALENDAR