BEGIN:VCALENDAR
VERSION:2.0
PRODID:-//Sligo Library - ECPv6.15.20//NONSGML v1.0//EN
CALSCALE:GREGORIAN
METHOD:PUBLISH
X-WR-CALNAME:Sligo Library
X-ORIGINAL-URL:https://sligolibrary.ie
X-WR-CALDESC:Events for Sligo Library
REFRESH-INTERVAL;VALUE=DURATION:PT1H
X-Robots-Tag:noindex
X-PUBLISHED-TTL:PT1H
BEGIN:VTIMEZONE
TZID:UTC
BEGIN:STANDARD
TZOFFSETFROM:+0000
TZOFFSETTO:+0000
TZNAME:UTC
DTSTART:20240101T000000
END:STANDARD
END:VTIMEZONE
BEGIN:VEVENT
DTSTART;TZID=UTC:20250704T100000
DTEND;TZID=UTC:20250704T103000
DTSTAMP:20260421T083241
CREATED:20250627T152956Z
LAST-MODIFIED:20250627T152956Z
UID:19331-1751623200-1751625000@sligolibrary.ie
SUMMARY:Toddle Time Storytime
DESCRIPTION:Join us in Sligo Central Library for our regularly scheduled storytime for babies and toddlers! \nSuitable for ages 0-4 \nNo booking required
URL:https://sligolibrary.ie/event/toddle-time-storytime-6/
LOCATION:Sligo Central Library
CATEGORIES:Sligo Central Library,Summer Stars Reading Challenge
END:VEVENT
BEGIN:VEVENT
DTSTART;TZID=UTC:20250704T143000
DTEND;TZID=UTC:20250704T153000
DTSTAMP:20260421T083241
CREATED:20250627T152100Z
LAST-MODIFIED:20250627T152100Z
UID:19310-1751639400-1751643000@sligolibrary.ie
SUMMARY:The Investigator's Bookclub
DESCRIPTION:The Investigators Bookclub \nAges:  9-11 \nDate:  Every Friday from July 4th until August 8th \nTime:  2.30pm – 3.30pm \nLocation:  Sligo Central Library \nBooking required – Contact 071 9111675 or sligolib@sligococo.ie
URL:https://sligolibrary.ie/event/the-investigators-bookclub/
LOCATION:Sligo Central Library
CATEGORIES:Sligo Central Library,Summer Stars Reading Challenge
END:VEVENT
END:VCALENDAR