BEGIN:VCALENDAR
VERSION:2.0
PRODID:-//Sligo Library - ECPv6.15.20//NONSGML v1.0//EN
CALSCALE:GREGORIAN
METHOD:PUBLISH
X-WR-CALNAME:Sligo Library
X-ORIGINAL-URL:https://sligolibrary.ie
X-WR-CALDESC:Events for Sligo Library
REFRESH-INTERVAL;VALUE=DURATION:PT1H
X-Robots-Tag:noindex
X-PUBLISHED-TTL:PT1H
BEGIN:VTIMEZONE
TZID:UTC
BEGIN:STANDARD
TZOFFSETFROM:+0000
TZOFFSETTO:+0000
TZNAME:UTC
DTSTART:20250101T000000
END:STANDARD
END:VTIMEZONE
BEGIN:VEVENT
DTSTART;TZID=UTC:20260321T100000
DTEND;TZID=UTC:20260321T103000
DTSTAMP:20260423T081829
CREATED:20260306T143854Z
LAST-MODIFIED:20260306T143854Z
UID:21988-1774087200-1774089000@sligolibrary.ie
SUMMARY:Tubbercurry Community Library - Saturday Storytime
DESCRIPTION:Saturday Storytime! \nJoin Tubbercurry Community Library staff on Saturday 28th February at 10am for a toddler and baby storytime!  With fun stories\, floor play time\, and a chance for parents to meet up as well. \nTubbercurry Community Library 10am – 10:30am \nNo booking required!
URL:https://sligolibrary.ie/event/tubbercurry-community-library-saturday-storytime-4/
LOCATION:Tubbercurry Community Library\, Humbert Street\, Tubbercurry\, Sligo\, Ireland
CATEGORIES:Tubbercurry Community Library
END:VEVENT
BEGIN:VEVENT
DTSTART;TZID=UTC:20260321T143000
DTEND;TZID=UTC:20260321T163000
DTSTAMP:20260423T081829
CREATED:20260223T151427Z
LAST-MODIFIED:20260223T151706Z
UID:21865-1774103400-1774110600@sligolibrary.ie
SUMMARY:Sligo Central Library - Games Club
DESCRIPTION:An open event for children to drop into Sligo Central Library and have fun in our Busy Bees Area playing a variety of board games! \nOpen event and no booking required!
URL:https://sligolibrary.ie/event/sligo-central-library-games-club-4/
LOCATION:Sligo Central Library
CATEGORIES:Sligo Central Library
END:VEVENT
END:VCALENDAR