BEGIN:VCALENDAR
VERSION:2.0
PRODID:-//Sligo Library - ECPv6.15.20//NONSGML v1.0//EN
CALSCALE:GREGORIAN
METHOD:PUBLISH
X-ORIGINAL-URL:https://sligolibrary.ie
X-WR-CALDESC:Events for Sligo Library
REFRESH-INTERVAL;VALUE=DURATION:PT1H
X-Robots-Tag:noindex
X-PUBLISHED-TTL:PT1H
BEGIN:VTIMEZONE
TZID:UTC
BEGIN:STANDARD
TZOFFSETFROM:+0000
TZOFFSETTO:+0000
TZNAME:UTC
DTSTART:20250101T000000
END:STANDARD
END:VTIMEZONE
BEGIN:VEVENT
DTSTART;TZID=UTC:20260326T103000
DTEND;TZID=UTC:20260326T123000
DTSTAMP:20260421T083629
CREATED:20260223T152328Z
LAST-MODIFIED:20260223T152328Z
UID:21886-1774521000-1774528200@sligolibrary.ie
SUMMARY:Sligo Central Library - Kitchen Crafts with Marguerite
DESCRIPTION:Join us in Sligo Central Library and bring your knitting\, crochet\, drawing or your preferred creative endeavour for our open Kitchen Crafts workshop hosted by Marguerite. \n  \nBooking not required\, this is a drop in event open to the public.
URL:https://sligolibrary.ie/event/sligo-central-library-kitchen-crafts-with-marguerite-4/
LOCATION:Sligo Central Library
CATEGORIES:Sligo Central Library
END:VEVENT
BEGIN:VEVENT
DTSTART;TZID=UTC:20260326T110000
DTEND;TZID=UTC:20260326T120000
DTSTAMP:20260421T083629
CREATED:20260212T144247Z
LAST-MODIFIED:20260212T144247Z
UID:21772-1774522800-1774526400@sligolibrary.ie
SUMMARY:Ballymote Community Library - Toddler Play
DESCRIPTION:Toddler Play in Ballymote Community Library every Thursday!  \nIf you’re a parent of a baby/toddler\, make sure to join us in Ballymote Community Library every Thursday morning at 11am for our regular Toddler Play Time session! \nOn Thursdays\, our library does not open to the public until 12pm so your little one will have freedom to play\, make friends\, and express themselves in an open environment reserved exclusively for toddlers and their parents. \n\nFREE\nSuitable for ages 0-4\nNo booking required\nTea & coffee for adults
URL:https://sligolibrary.ie/event/ballymote-community-library-toddler-play-7/
LOCATION:Ballymote Community Library\, Teeling Street\, Ballymote\, Ireland
CATEGORIES:Ballymote Community Library
ATTACH;FMTTYPE=image/jpeg:https://sligolibrary.ie/wp-content/uploads/2026/01/Ballymote-Parent-Baby-Toddler-Time.jpg
END:VEVENT
BEGIN:VEVENT
DTSTART;TZID=UTC:20260326T140000
DTEND;TZID=UTC:20260326T160000
DTSTAMP:20260421T083629
CREATED:20260306T144609Z
LAST-MODIFIED:20260306T144609Z
UID:22012-1774533600-1774540800@sligolibrary.ie
SUMMARY:Sligo Central Library - Digital Skills Class with MSLETB
DESCRIPTION:Receive one-to-one instruction on basic digital skills such as computer\, phone and tablet use. \n  \n*Current class is full* \nIf interested in future classes please contact Sligo Central Library at: \n0719111675 \nsligolib@sligococo.ie
URL:https://sligolibrary.ie/event/sligo-central-library-digital-skills-class-with-msletb-3/
LOCATION:Sligo Central Library
CATEGORIES:Sligo Central Library
END:VEVENT
BEGIN:VEVENT
DTSTART;TZID=UTC:20260326T170000
DTEND;TZID=UTC:20260326T190000
DTSTAMP:20260421T083629
CREATED:20260306T143017Z
LAST-MODIFIED:20260306T143017Z
UID:21966-1774544400-1774551600@sligolibrary.ie
SUMMARY:Ballymote Community Library - Documentary Club
DESCRIPTION:Participants watch a documentary together\, followed by a group discussion\, encouraging conversation\, reflection\, and shared perspectives.
URL:https://sligolibrary.ie/event/ballymote-community-library-documentary-club-3/
LOCATION:Ballymote Community Library\, Teeling Street\, Ballymote\, Ireland
CATEGORIES:Ballymote Community Library
END:VEVENT
END:VCALENDAR