BEGIN:VCALENDAR
VERSION:2.0
PRODID:-//Sligo Library - ECPv6.15.20//NONSGML v1.0//EN
CALSCALE:GREGORIAN
METHOD:PUBLISH
X-WR-CALNAME:Sligo Library
X-ORIGINAL-URL:https://sligolibrary.ie
X-WR-CALDESC:Events for Sligo Library
REFRESH-INTERVAL;VALUE=DURATION:PT1H
X-Robots-Tag:noindex
X-PUBLISHED-TTL:PT1H
BEGIN:VTIMEZONE
TZID:UTC
BEGIN:STANDARD
TZOFFSETFROM:+0000
TZOFFSETTO:+0000
TZNAME:UTC
DTSTART:20250101T000000
END:STANDARD
END:VTIMEZONE
BEGIN:VEVENT
DTSTART;TZID=UTC:20260425T100000
DTEND;TZID=UTC:20260425T103000
DTSTAMP:20260425T174348
CREATED:20260306T144137Z
LAST-MODIFIED:20260306T144137Z
UID:22003-1777111200-1777113000@sligolibrary.ie
SUMMARY:Tubbercurry Community Library - Saturday Storytime
DESCRIPTION:Saturday Storytime! \nJoin Tubbercurry Community Library staff on Saturday 28th February at 10am for a toddler and baby storytime!  With fun stories\, floor play time\, and a chance for parents to meet up as well. \nTubbercurry Community Library 10am – 10:30am \nNo booking required!
URL:https://sligolibrary.ie/event/tubbercurry-community-library-saturday-storytime-9/
LOCATION:Tubbercurry Community Library\, Humbert Street\, Tubbercurry\, Sligo\, Ireland
CATEGORIES:Tubbercurry Community Library
END:VEVENT
BEGIN:VEVENT
DTSTART;TZID=UTC:20260425T100000
DTEND;TZID=UTC:20260425T113000
DTSTAMP:20260425T174348
CREATED:20260330T103331Z
LAST-MODIFIED:20260330T103331Z
UID:22382-1777111200-1777116600@sligolibrary.ie
SUMMARY:Ballymote Community Library - Beaded Jewellery with Lisa Canon (Cruinniú na nÓg 2026)
DESCRIPTION:Design and create your own beautiful beaded jewellery! In this relaxed\, hands-on workshop\, participants will explore colour\, pattern and texture while making bracelets\, necklaces or keyrings to take home. With a wide selection of beads and charms to choose from\, everyone can create something with their own unique flair. \nAge: 6-12 \nTime: 12Noon – 13:30 \nBooking required – contact us on 0719111675 or sligolib@sligococo.ie
URL:https://sligolibrary.ie/event/ballymote-community-library-beaded-jewellery-with-lisa-canon-cruinniu-na-nog-2026/
LOCATION:Ballymote Community Library\, Teeling Street\, Ballymote\, Ireland
CATEGORIES:Ballymote Community Library,Cruinniú na nÓg
END:VEVENT
BEGIN:VEVENT
DTSTART;TZID=UTC:20260425T100000
DTEND;TZID=UTC:20260425T113000
DTSTAMP:20260425T174348
CREATED:20260330T104027Z
LAST-MODIFIED:20260330T104150Z
UID:22400-1777111200-1777116600@sligolibrary.ie
SUMMARY:Tubbercurry Community Library - Digital Art Course w/Wayne O Connor (Cruinniú na nÓg 2026)
DESCRIPTION:Join Artist Wayne O Connor for an exciting digital art course\, where you will learn how to paint\, draw\, sculpt and animate using a variety of digital media. As well as designing fun characters and exciting scenes\, Wayne will show you the best apps\, tips and advice about digital painting. All Materials supplied but places are limited! \nAge: 10+ \nTime: 12noon – 13:30 \nBooking required – contact us on 0719111675 or sligolib@sligococo.ie
URL:https://sligolibrary.ie/event/tubbercurry-community-library-digital-art-course-w-wayne-o-connor-cruinniu-na-nog-2026/
LOCATION:Tubbercurry Community Library\, Humbert Street\, Tubbercurry\, Sligo\, Ireland
CATEGORIES:Cruinniú na nÓg,Tubbercurry Community Library
END:VEVENT
BEGIN:VEVENT
DTSTART;TZID=UTC:20260425T120000
DTEND;TZID=UTC:20260425T133000
DTSTAMP:20260425T174348
CREATED:20260330T093314Z
LAST-MODIFIED:20260330T093314Z
UID:22312-1777118400-1777123800@sligolibrary.ie
SUMMARY:Sligo Central Library - MakerMeet Workshop: Fabulous Flight (Cruinniú na nÓg 2026)
DESCRIPTION:Explore flight and some forms and ways to fly. During the workshop\, participants build at least 2 types of airplanes which they can take home. \nAge: 7+ \nTime: 12Noon – 13:30 \nBooking required – contact us on 0719111675 or sligolib@sligococo.ie
URL:https://sligolibrary.ie/event/sligo-central-library-makermeet-workshop-fabulous-flight-cruinniu-na-nog-2026/
CATEGORIES:Cruinniú na nÓg,Sligo Central Library
END:VEVENT
BEGIN:VEVENT
DTSTART;TZID=UTC:20260425T150000
DTEND;TZID=UTC:20260425T160000
DTSTAMP:20260425T174348
CREATED:20260330T093516Z
LAST-MODIFIED:20260330T093523Z
UID:22315-1777129200-1777132800@sligolibrary.ie
SUMMARY:Sligo Central Library - True Crime + Thriller Bookclub
DESCRIPTION:***Bookclub full*** \nIf you are interested in joining or starting your own book club contact Sligo Library at 071 9111675 or sligolib@sligococo.ie
URL:https://sligolibrary.ie/event/sligo-central-library-true-crime-thriller-bookclub/
LOCATION:Sligo Central Library
CATEGORIES:Sligo Central Library
END:VEVENT
END:VCALENDAR