BEGIN:VCALENDAR
VERSION:2.0
PRODID:-//Sligo Library - ECPv6.15.20//NONSGML v1.0//EN
CALSCALE:GREGORIAN
METHOD:PUBLISH
X-ORIGINAL-URL:https://sligolibrary.ie
X-WR-CALDESC:Events for Sligo Library
REFRESH-INTERVAL;VALUE=DURATION:PT1H
X-Robots-Tag:noindex
X-PUBLISHED-TTL:PT1H
BEGIN:VTIMEZONE
TZID:UTC
BEGIN:STANDARD
TZOFFSETFROM:+0000
TZOFFSETTO:+0000
TZNAME:UTC
DTSTART:20240101T000000
END:STANDARD
END:VTIMEZONE
BEGIN:VEVENT
DTSTART;TZID=UTC:20250124T100000
DTEND;TZID=UTC:20250124T103000
DTSTAMP:20260423T082044
CREATED:20250106T103208Z
LAST-MODIFIED:20250106T103208Z
UID:17686-1737712800-1737714600@sligolibrary.ie
SUMMARY:Toddle Time Storytime
DESCRIPTION:Suitable for ages 0-4 \nNo booking required
URL:https://sligolibrary.ie/event/toddle-time-storytime-3/
LOCATION:Sligo Central Library
CATEGORIES:Sligo Central Library
END:VEVENT
BEGIN:VEVENT
DTSTART;TZID=UTC:20250124T123000
DTEND;TZID=UTC:20250124T133000
DTSTAMP:20260423T082044
CREATED:20250106T103331Z
LAST-MODIFIED:20250106T103331Z
UID:17689-1737721800-1737725400@sligolibrary.ie
SUMMARY:Ciorcal Comhrá - Irish Language Conversation Group
DESCRIPTION:No booking required\, pop in for a chat!
URL:https://sligolibrary.ie/event/ciorcal-comhra-irish-language-conversation-group/
LOCATION:Sligo Central Library
CATEGORIES:Sligo Central Library
END:VEVENT
END:VCALENDAR