BEGIN:VCALENDAR
VERSION:2.0
PRODID:-//Sligo Library - ECPv6.15.18//NONSGML v1.0//EN
CALSCALE:GREGORIAN
METHOD:PUBLISH
X-WR-CALNAME:Sligo Library
X-ORIGINAL-URL:https://sligolibrary.ie
X-WR-CALDESC:Events for Sligo Library
REFRESH-INTERVAL;VALUE=DURATION:PT1H
X-Robots-Tag:noindex
X-PUBLISHED-TTL:PT1H
BEGIN:VTIMEZONE
TZID:UTC
BEGIN:STANDARD
TZOFFSETFROM:+0000
TZOFFSETTO:+0000
TZNAME:UTC
DTSTART:20240101T000000
END:STANDARD
END:VTIMEZONE
BEGIN:VEVENT
DTSTART;VALUE=DATE:20250819
DTEND;VALUE=DATE:20250914
DTSTAMP:20260420T075923
CREATED:20250812T155807Z
LAST-MODIFIED:20250812T155807Z
UID:19486-1755561600-1757807999@sligolibrary.ie
SUMMARY:Elizabeth Corbet Yeats Exhibition
DESCRIPTION:Elizabeth Corbet Yeats Exhibition\n\n\n\n\n\nSligo Central Library\nTuesday 19th August – 13th September 2025\nDuring library open hours\n\n\n\nCelebrate the remarkable legacy of Elizabeth Yeats—artist\, educator\, publisher\, and champion of women’s talent. Co-founder of Dun Emer and Cuala Industries\, her work helped shape Ireland’s cultural and artistic identity.
URL:https://sligolibrary.ie/event/elizabeth-corbet-yeats-exhibition/
LOCATION:Sligo Central Library
CATEGORIES:Sligo Central Library
END:VEVENT
BEGIN:VEVENT
DTSTART;TZID=UTC:20250912T100000
DTEND;TZID=UTC:20250912T103000
DTSTAMP:20260420T075923
CREATED:20250830T135708Z
LAST-MODIFIED:20250830T135708Z
UID:20317-1757671200-1757673000@sligolibrary.ie
SUMMARY:Toddle Time Storytime
DESCRIPTION:Join us in Sligo Central Library for our regularly scheduled storytime for babies and toddlers! \nSuitable for ages 0-4 \nNo booking required
URL:https://sligolibrary.ie/event/toddle-time-storytime-12/
LOCATION:Sligo Central Library
CATEGORIES:Sligo Central Library
END:VEVENT
BEGIN:VEVENT
DTSTART;TZID=UTC:20250913T140000
DTEND;TZID=UTC:20250913T160000
DTSTAMP:20260420T075923
CREATED:20250830T141435Z
LAST-MODIFIED:20250830T141905Z
UID:20329-1757772000-1757779200@sligolibrary.ie
SUMMARY:Six-Part Creative Writing Workshop with Maeve McKenna (1 of 6)
DESCRIPTION: Memories Become Stories:  Six-Part Creative Writing Workshop with Maeve McKenna\n\n\n\n\n\nDo you have a memory you’d love to capture in words?\nJoin us at Sligo Library for a warm and welcoming series of creative writing workshops\, where we’ll explore cherished moments and stories from times gone by.\n\n\nNo prior writing experience is needed — just bring your memories and an open mind. These workshops are fun\, interactive\, and encouraging\, designed to help you discover your voice and enjoy the process of storytelling through prose and poetry.\n\n\n\n  Sligo Central Library\, Stephen Street\, Sligo\n 2pm – 4pm\n Saturday 13th\, 20th\, 27th September & 4th\, 11th\, 18th October\n\n\n Booking is required.  Contact 071 9111675 or sligolib@sligococo.ie\n\n\n\nMaeve McKenna is a poet and creative writing facilitator living in Sligo. Her work has been published widely. She has an MA in Poetry from Queen’s University\, Belfast and is the author of two pamphlets\, A Dedication to Drowning and Body as a Home for this Darkness.\n\n\n\nThis workshop is supported by the Department of Culture\, Communications and Sport.
URL:https://sligolibrary.ie/event/six-part-creative-writing-workshop-with-maeve-mckenna-1-of-6/
LOCATION:Sligo Central Library
CATEGORIES:Sligo Central Library
END:VEVENT
BEGIN:VEVENT
DTSTART;TZID=UTC:20250919T100000
DTEND;TZID=UTC:20250919T103000
DTSTAMP:20260420T075923
CREATED:20250830T135744Z
LAST-MODIFIED:20250830T135744Z
UID:20320-1758276000-1758277800@sligolibrary.ie
SUMMARY:Toddle Time Storytime
DESCRIPTION:Join us in Sligo Central Library for our regularly scheduled storytime for babies and toddlers! \nSuitable for ages 0-4 \nNo booking required
URL:https://sligolibrary.ie/event/toddle-time-storytime-13/
LOCATION:Sligo Central Library
CATEGORIES:Sligo Central Library
END:VEVENT
BEGIN:VEVENT
DTSTART;TZID=UTC:20250919T123000
DTEND;TZID=UTC:20250919T133000
DTSTAMP:20260420T075923
CREATED:20250830T135831Z
LAST-MODIFIED:20250830T135831Z
UID:20323-1758285000-1758288600@sligolibrary.ie
SUMMARY:Ciorcal Comhrá - Sligo Library
DESCRIPTION:Bígí linn i Lárleabharlann Shligigh le haghaidh ár nGrúpa Comhrá Gaeilge gach seachtain. \nFáilte roimh gach leibhéal scile. \nNí gá áirithint a dhéanamh. \n~~~~~~~~~~~~~ \nJoin us in Sligo Central Library for our bi-weekly Irish Language Conversation Group. \nAll skill levels welcome. \nNo booking required.
URL:https://sligolibrary.ie/event/ciorcal-comhra-sligo-library-11/
LOCATION:Sligo Central Library
CATEGORIES:Sligo Central Library
END:VEVENT
BEGIN:VEVENT
DTSTART;TZID=UTC:20250920T140000
DTEND;TZID=UTC:20250920T160000
DTSTAMP:20260420T075923
CREATED:20250830T141943Z
LAST-MODIFIED:20250830T141943Z
UID:20336-1758376800-1758384000@sligolibrary.ie
SUMMARY:Six-Part Creative Writing Workshop with Maeve McKenna (2 of 6)
DESCRIPTION: Memories Become Stories:  Six-Part Creative Writing Workshop with Maeve McKenna\n\n\n\n\n\nDo you have a memory you’d love to capture in words?\nJoin us at Sligo Library for a warm and welcoming series of creative writing workshops\, where we’ll explore cherished moments and stories from times gone by.\n\n\nNo prior writing experience is needed — just bring your memories and an open mind. These workshops are fun\, interactive\, and encouraging\, designed to help you discover your voice and enjoy the process of storytelling through prose and poetry.\n\n\n\n Sligo Central Library\, Stephen Street\, Sligo\n 2pm – 4pm\n Saturday 13th\, 20th\, 27th September & 4th\, 11th\, 18th October\n\n\n Booking is required.  Contact 071 9111675 or sligolib@sligococo.ie\n\n\n\nMaeve McKenna is a poet and creative writing facilitator living in Sligo. Her work has been published widely. She has an MA in Poetry from Queen’s University\, Belfast and is the author of two pamphlets\, A Dedication to Drowning and Body as a Home for this Darkness.\n\n\n\nThis workshop is supported by the Department of Culture\, Communications and Sport.
URL:https://sligolibrary.ie/event/six-part-creative-writing-workshop-with-maeve-mckenna-2-of-6/
LOCATION:Sligo Central Library
CATEGORIES:Sligo Central Library
END:VEVENT
BEGIN:VEVENT
DTSTART;TZID=UTC:20250926T100000
DTEND;TZID=UTC:20250926T103000
DTSTAMP:20260420T075923
CREATED:20250830T135909Z
LAST-MODIFIED:20250830T135909Z
UID:20326-1758880800-1758882600@sligolibrary.ie
SUMMARY:Toddle Time Storytime
DESCRIPTION:Join us in Sligo Central Library for our regularly scheduled storytime for babies and toddlers! \nSuitable for ages 0-4 \nNo booking required
URL:https://sligolibrary.ie/event/toddle-time-storytime-14/
LOCATION:Sligo Central Library
CATEGORIES:Sligo Central Library
END:VEVENT
BEGIN:VEVENT
DTSTART;VALUE=DATE:20250927
DTEND;VALUE=DATE:20250928
DTSTAMP:20260420T075923
CREATED:20250926T140734Z
LAST-MODIFIED:20250926T140750Z
UID:20615-1758931200-1759017599@sligolibrary.ie
SUMMARY:National Public Libraries Open Day 2025
DESCRIPTION:Sligo County Libraries will join libraries across Ireland on Saturday\, 27 September to celebrate National Public Libraries Open Day 2025. \nThe nationwide campaign invites the public to “Take a Closer Look” at the modern\, inclusive\, and vibrant services libraries offer today. It highlights the evolving role of libraries in Irish society as places of entertainment\, learning\, connection\, creativity\, and community support. \nThis year’s campaign highlights that library membership is free and open to all\, while raising awareness of the wide range of services available. In addition to a wide range of books\, today’s libraries offer free access to eBooks\, eAudiobooks\, eNewspapers\, eMagazines\, and eLearning Courses\, alongside programmes of events for all ages\, access to printing services\, creative and study spaces. Public libraries are welcoming\, accessible\, inclusive community spaces that offer services and spaces to children and adults who are neurodiverse\, while fostering wellbeing\, life-long learning\, and connection for everyone. \nTo mark National Public Libraries Open Day 2025\, Sligo County Libraries encourage you to visit and join up to your local library on Saturday 27th September. \nStuart Hamilton\, Head of Libraries Development at the Local Government Management Agency said: “Public libraries have evolved into vibrant community hubs that support learning\, creativity\, wellbeing\, and connection. Beyond books\, they offer access to IT services\, digital tools\, creative spaces\, and inclusive programmes such as Right to Read\, Summer Stars\, Family Time at the Library\, Literacy for All\, Skills for Life\, and digital lending services. \n“National Public Libraries Open Day is a chance to explore everything your local library has to offer. Whether you’re looking to learn something new\, connect with others\, or simply discover what’s available\, libraries are welcoming spaces full of opportunity.” \nEveryone is encouraged to join the national conversation using the hashtags #LibrariesOpenDay and #TakeACloserLook. \nFor more information\, visit www.librariesireland.ie/national-public-libraries-open-day \n  \n\nSligo County Libraries: National Public Libraries Open Day Events\nSLIGO CENTRAL LIBRARY\nJoin us in Sligo Central Library for BOARDGAME BONANZA with Wayne O’Connor! \nSaturday 27th September from 11.30am – 12.30pm • For ages 8+ • Booking required: 071 9111675 or sligolib@sligococo.ie \nBALLYMOTE COMMUNITY LIBRARY\nCelebrate National Public Libraries Open Day 2025 with The ImagiNation! A pop-up play village for toddlers and young children\, featuring mini stations like a construction site\, ice cream shop\, fire station and animal hospital. Little ones can step into everyday roles and enjoy screen-free\, imaginative play with their grown-ups. \nSaturday 27th September from 12.00pm – 1.00pm • For ages 0-6 • Booking required: 071 9111669 or ballymotelibrary@sligococo.ie \nTUBBERCURRY COMMUNITY LIBRARY\nCelebrate National Public Libraries Open Day 2025 with The ImagiNation! A pop-up play village for toddlers and young children\, featuring mini stations like a construction site\, ice cream shop\, fire station and animal hospital. Little ones can step into everyday roles and enjoy screen-free\, imaginative play with their grown-ups. \nSaturday 27th September from 9.30am – 10.30am • For ages 0-6 • Booking required: 071 9111705 or tubberlibrary@sligococo.ie
URL:https://sligolibrary.ie/event/national-public-libraries-open-day-2025/
CATEGORIES:Ballymote Community Library,Enniscrone Branch Library,Sligo Central Library,Tubbercurry Community Library
END:VEVENT
BEGIN:VEVENT
DTSTART;TZID=UTC:20250927T140000
DTEND;TZID=UTC:20250927T160000
DTSTAMP:20260420T075923
CREATED:20250830T142019Z
LAST-MODIFIED:20250830T142019Z
UID:20339-1758981600-1758988800@sligolibrary.ie
SUMMARY:Six-Part Creative Writing Workshop with Maeve McKenna (3 of 6)
DESCRIPTION: Memories Become Stories:  Six-Part Creative Writing Workshop with Maeve McKenna\n\n\n\n\n\nDo you have a memory you’d love to capture in words?\nJoin us at Sligo Library for a warm and welcoming series of creative writing workshops\, where we’ll explore cherished moments and stories from times gone by.\n\n\nNo prior writing experience is needed — just bring your memories and an open mind. These workshops are fun\, interactive\, and encouraging\, designed to help you discover your voice and enjoy the process of storytelling through prose and poetry.\n\n\n\n Sligo Central Library\, Stephen Street\, Sligo\n 2pm – 4pm\n Saturday 13th\, 20th\, 27th September & 4th\, 11th\, 18th October\n\n\n Booking is required.  Contact 071 9111675 or sligolib@sligococo.ie\n\n\n\nMaeve McKenna is a poet and creative writing facilitator living in Sligo. Her work has been published widely. She has an MA in Poetry from Queen’s University\, Belfast and is the author of two pamphlets\, A Dedication to Drowning and Body as a Home for this Darkness.\n\n\n\nThis workshop is supported by the Department of Culture\, Communications and Sport.
URL:https://sligolibrary.ie/event/six-part-creative-writing-workshop-with-maeve-mckenna-3-of-6/
LOCATION:Sligo Central Library
CATEGORIES:Sligo Central Library
END:VEVENT
BEGIN:VEVENT
DTSTART;TZID=UTC:20250930T110000
DTEND;TZID=UTC:20250930T120000
DTSTAMP:20260420T075923
CREATED:20250926T141024Z
LAST-MODIFIED:20250926T141024Z
UID:20620-1759230000-1759233600@sligolibrary.ie
SUMMARY:Book Club - Sligo Library
DESCRIPTION:If you are interested in starting your own book club contact Sligo Library at 071 9111675 or sligolib@sligococo.ie
URL:https://sligolibrary.ie/event/book-club-sligo-library-7/
LOCATION:Sligo Central Library
CATEGORIES:Sligo Central Library
END:VEVENT
BEGIN:VEVENT
DTSTART;TZID=UTC:20250930T140000
DTEND;TZID=UTC:20250930T160000
DTSTAMP:20260420T075923
CREATED:20250926T141834Z
LAST-MODIFIED:20250926T151534Z
UID:20623-1759240800-1759248000@sligolibrary.ie
SUMMARY:Creative Writing Group with Women's Shed
DESCRIPTION:Closed Event
URL:https://sligolibrary.ie/event/creative-writing-group-with-womens-shed/
LOCATION:Sligo Central Library
CATEGORIES:Sligo Central Library
END:VEVENT
BEGIN:VEVENT
DTSTART;TZID=UTC:20251001T143000
DTEND;TZID=UTC:20251001T163000
DTSTAMP:20260420T075923
CREATED:20250926T151347Z
LAST-MODIFIED:20250926T151347Z
UID:20626-1759329000-1759336200@sligolibrary.ie
SUMMARY:Digital Skills Class with Sligo Leader - Sligo Library
DESCRIPTION:Receive one-to-one instruction on basic digital skills such as computer\, phone and tablet use. \n  \n*Current class is full* \nIf interested in future classes please contact Sligo Central Library at: \n071 9111675 \nsligolib@sligococo.ie
URL:https://sligolibrary.ie/event/digital-skills-class-with-sligo-leader-sligo-library-7/
LOCATION:Sligo Central Library
CATEGORIES:Sligo Central Library
END:VEVENT
BEGIN:VEVENT
DTSTART;TZID=UTC:20251003T110000
DTEND;TZID=UTC:20251003T110000
DTSTAMP:20260420T075923
CREATED:20250926T151800Z
LAST-MODIFIED:20250926T152342Z
UID:20629-1759489200-1759489200@sligolibrary.ie
SUMMARY:Toddle Time Storytime
DESCRIPTION:Join us in Sligo Central Library for our regularly scheduled storytime for babies and toddlers! \nSuitable for ages 0-4 \nNo booking required
URL:https://sligolibrary.ie/event/toddle-time-storytime-15/
LOCATION:Sligo Central Library
CATEGORIES:Sligo Central Library
END:VEVENT
BEGIN:VEVENT
DTSTART;TZID=UTC:20251003T123000
DTEND;TZID=UTC:20251003T133000
DTSTAMP:20260420T075923
CREATED:20250926T152437Z
LAST-MODIFIED:20250926T152437Z
UID:20632-1759494600-1759498200@sligolibrary.ie
SUMMARY:Ciorcal Comhrá - Sligo Library
DESCRIPTION:Bígí linn i Lárleabharlann Shligigh le haghaidh ár nGrúpa Comhrá Gaeilge gach seachtain. \nFáilte roimh gach leibhéal scile. \nNí gá áirithint a dhéanamh. \n~~~~~~~~~~~~~ \nJoin us in Sligo Central Library for our bi-weekly Irish Language Conversation Group. \nAll skill levels welcome. \nNo booking required.
URL:https://sligolibrary.ie/event/ciorcal-comhra-sligo-library-12/
LOCATION:Sligo Central Library
CATEGORIES:Sligo Central Library
END:VEVENT
BEGIN:VEVENT
DTSTART;TZID=UTC:20251004T113000
DTEND;TZID=UTC:20251004T123000
DTSTAMP:20260420T075923
CREATED:20250927T092147Z
LAST-MODIFIED:20250927T092147Z
UID:20663-1759577400-1759581000@sligolibrary.ie
SUMMARY:Game Club for Kids - Sligo Library
DESCRIPTION:Contact Sligo Library for more details. \n071 9111675 \nsligolib@sligococo.ie
URL:https://sligolibrary.ie/event/game-club-for-kids-sligo-library/
LOCATION:Sligo Central Library
CATEGORIES:Sligo Central Library
END:VEVENT
BEGIN:VEVENT
DTSTART;TZID=UTC:20251004T140000
DTEND;TZID=UTC:20251004T160000
DTSTAMP:20260420T075923
CREATED:20250830T142051Z
LAST-MODIFIED:20250830T142051Z
UID:20342-1759586400-1759593600@sligolibrary.ie
SUMMARY:Six-Part Creative Writing Workshop with Maeve McKenna (4 of 6)
DESCRIPTION: Memories Become Stories:  Six-Part Creative Writing Workshop with Maeve McKenna\n\n\n\n\n\nDo you have a memory you’d love to capture in words?\nJoin us at Sligo Library for a warm and welcoming series of creative writing workshops\, where we’ll explore cherished moments and stories from times gone by.\n\n\nNo prior writing experience is needed — just bring your memories and an open mind. These workshops are fun\, interactive\, and encouraging\, designed to help you discover your voice and enjoy the process of storytelling through prose and poetry.\n\n\n\n Sligo Central Library\, Stephen Street\, Sligo\n 2pm – 4pm\n Saturday 13th\, 20th\, 27th September & 4th\, 11th\, 18th October\n\n\n Booking is required.  Contact 071 9111675 or sligolib@sligococo.ie\n\n\n\nMaeve McKenna is a poet and creative writing facilitator living in Sligo. Her work has been published widely. She has an MA in Poetry from Queen’s University\, Belfast and is the author of two pamphlets\, A Dedication to Drowning and Body as a Home for this Darkness.\n\n\n\nThis workshop is supported by the Department of Culture\, Communications and Sport.
URL:https://sligolibrary.ie/event/six-part-creative-writing-workshop-with-maeve-mckenna-4-of-6/
LOCATION:Sligo Central Library
CATEGORIES:Sligo Central Library
END:VEVENT
BEGIN:VEVENT
DTSTART;TZID=UTC:20251007T110000
DTEND;TZID=UTC:20251007T120000
DTSTAMP:20260420T075923
CREATED:20250926T154842Z
LAST-MODIFIED:20250926T154842Z
UID:20635-1759834800-1759838400@sligolibrary.ie
SUMMARY:Down syndrome Book Club - Sligo Library
DESCRIPTION:If interested please contact Sligo Central Library \n071 9111675 \nsligolib@sligococo.ie
URL:https://sligolibrary.ie/event/down-syndrome-book-club-sligo-library-5/
LOCATION:Sligo Central Library
CATEGORIES:Sligo Central Library
END:VEVENT
BEGIN:VEVENT
DTSTART;TZID=UTC:20251008T110000
DTEND;TZID=UTC:20251008T120000
DTSTAMP:20260420T075923
CREATED:20250926T154924Z
LAST-MODIFIED:20250926T154924Z
UID:20638-1759921200-1759924800@sligolibrary.ie
SUMMARY:Book Club - Sligo Library
DESCRIPTION:If you are interested in starting your own book club contact Sligo Library at 071 9111675 or sligolib@sligococo.ie
URL:https://sligolibrary.ie/event/book-club-sligo-library-8/
LOCATION:Sligo Central Library
CATEGORIES:Sligo Central Library
END:VEVENT
BEGIN:VEVENT
DTSTART;TZID=UTC:20251008T143000
DTEND;TZID=UTC:20251008T163000
DTSTAMP:20260420T075923
CREATED:20250926T155001Z
LAST-MODIFIED:20250926T155001Z
UID:20641-1759933800-1759941000@sligolibrary.ie
SUMMARY:Digital Skills Class with Sligo Leader - Sligo Library
DESCRIPTION:Receive one-to-one instruction on basic digital skills such as computer\, phone and tablet use. \n  \n*Current class is full* \nIf interested in future classes please contact Sligo Central Library at: \n071 9111675 \nsligolib@sligococo.ie
URL:https://sligolibrary.ie/event/digital-skills-class-with-sligo-leader-sligo-library-8/
LOCATION:Sligo Central Library
CATEGORIES:Sligo Central Library
END:VEVENT
BEGIN:VEVENT
DTSTART;TZID=UTC:20251010T100000
DTEND;TZID=UTC:20251010T110000
DTSTAMP:20260420T075923
CREATED:20250926T155333Z
LAST-MODIFIED:20250926T155333Z
UID:20644-1760090400-1760094000@sligolibrary.ie
SUMMARY:Flutter-By Flutter-Bop - Sligo Library
DESCRIPTION:Join us in Sligo Central Library for a special Flutter-By Flutter-Bop Interactive Theatre for babies and young children. \n  \nBooking required: 071 9111675 or sligolib@sligococo.ie
URL:https://sligolibrary.ie/event/flutter-by-flutter-bop-sligo-library/
LOCATION:Sligo Central Library
CATEGORIES:Sligo Central Library
END:VEVENT
BEGIN:VEVENT
DTSTART;TZID=UTC:20251011T113000
DTEND;TZID=UTC:20251011T123000
DTSTAMP:20260420T075923
CREATED:20250927T092233Z
LAST-MODIFIED:20250927T092233Z
UID:20666-1760182200-1760185800@sligolibrary.ie
SUMMARY:Game Club for Kids - Sligo Library
DESCRIPTION:Contact Sligo Library for more details. \n071 9111675 \nsligolib@sligococo.ie
URL:https://sligolibrary.ie/event/game-club-for-kids-sligo-library-2/
LOCATION:Sligo Central Library
CATEGORIES:Sligo Central Library
END:VEVENT
BEGIN:VEVENT
DTSTART;TZID=UTC:20251011T140000
DTEND;TZID=UTC:20251011T160000
DTSTAMP:20260420T075923
CREATED:20250830T142630Z
LAST-MODIFIED:20250830T142630Z
UID:20345-1760191200-1760198400@sligolibrary.ie
SUMMARY:Six-Part Creative Writing Workshop with Maeve McKenna (5 of 6)
DESCRIPTION: Memories Become Stories:  Six-Part Creative Writing Workshop with Maeve McKenna\n\n\n\n\n\nDo you have a memory you’d love to capture in words?\nJoin us at Sligo Library for a warm and welcoming series of creative writing workshops\, where we’ll explore cherished moments and stories from times gone by.\n\n\nNo prior writing experience is needed — just bring your memories and an open mind. These workshops are fun\, interactive\, and encouraging\, designed to help you discover your voice and enjoy the process of storytelling through prose and poetry.\n\n\n\n Sligo Central Library\, Stephen Street\, Sligo\n 2pm – 4pm\n Saturday 13th\, 20th\, 27th September & 4th\, 11th\, 18th October\n\n\n Booking is required.  Contact 071 9111675 or sligolib@sligococo.ie\n\n\n\nMaeve McKenna is a poet and creative writing facilitator living in Sligo. Her work has been published widely. She has an MA in Poetry from Queen’s University\, Belfast and is the author of two pamphlets\, A Dedication to Drowning and Body as a Home for this Darkness.\n\n\n\nThis workshop is supported by the Department of Culture\, Communications and Sport.
URL:https://sligolibrary.ie/event/six-part-creative-writing-workshop-with-maeve-mckenna-5-of-6/
LOCATION:Sligo Central Library
CATEGORIES:Sligo Central Library
END:VEVENT
BEGIN:VEVENT
DTSTART;TZID=UTC:20251015T143000
DTEND;TZID=UTC:20251015T163000
DTSTAMP:20260420T075923
CREATED:20250927T090838Z
LAST-MODIFIED:20250927T090838Z
UID:20651-1760538600-1760545800@sligolibrary.ie
SUMMARY:Digital Skills Class with Sligo Leader - Sligo Library
DESCRIPTION:Receive one-to-one instruction on basic digital skills such as computer\, phone and tablet use. \n  \n*Current class is full* \nIf interested in future classes please contact Sligo Central Library at: \n071 9111675 \nsligolib@sligococo.ie
URL:https://sligolibrary.ie/event/digital-skills-class-with-sligo-leader-sligo-library-9/
LOCATION:Sligo Central Library
CATEGORIES:Sligo Central Library
END:VEVENT
BEGIN:VEVENT
DTSTART;TZID=UTC:20251016T093000
DTEND;TZID=UTC:20251016T103000
DTSTAMP:20260420T075923
CREATED:20251014T092619Z
LAST-MODIFIED:20251014T092619Z
UID:20720-1760607000-1760610600@sligolibrary.ie
SUMMARY:Maths Week Event - Sarah O'Keeffe - Sligo Central Library
DESCRIPTION:Maths Week Event with Sarah O’Keeffe. \nThis is a CLOSED event.
URL:https://sligolibrary.ie/event/maths-week-event-sarah-okeeffe-sligo-central-library/
LOCATION:Sligo Central Library
CATEGORIES:Sligo Central Library
END:VEVENT
BEGIN:VEVENT
DTSTART;TZID=UTC:20251016T103000
DTEND;TZID=UTC:20251016T123000
DTSTAMP:20260420T075923
CREATED:20251014T092848Z
LAST-MODIFIED:20251014T092848Z
UID:20723-1760610600-1760617800@sligolibrary.ie
SUMMARY:Children's Books Ireland Event featuring Amy Clarkin
DESCRIPTION:CLOSED Children’s Books Ireland event for visiting school classes featuring author Amy Clarkin.
URL:https://sligolibrary.ie/event/childrens-books-ireland-event-featuring-amy-clarkin/
LOCATION:Sligo Central Library
CATEGORIES:Sligo Central Library
END:VEVENT
BEGIN:VEVENT
DTSTART;TZID=UTC:20251017T100000
DTEND;TZID=UTC:20251017T102000
DTSTAMP:20260420T075923
CREATED:20250927T090926Z
LAST-MODIFIED:20250927T090926Z
UID:20654-1760695200-1760696400@sligolibrary.ie
SUMMARY:Toddle Time Storytime
DESCRIPTION:Join us in Sligo Central Library for our regularly scheduled storytime for babies and toddlers! \nSuitable for ages 0-4 \nNo booking required
URL:https://sligolibrary.ie/event/toddle-time-storytime-16/
LOCATION:Sligo Central Library
CATEGORIES:Sligo Central Library
END:VEVENT
BEGIN:VEVENT
DTSTART;TZID=UTC:20251017T111500
DTEND;TZID=UTC:20251017T121500
DTSTAMP:20260420T075923
CREATED:20251014T093154Z
LAST-MODIFIED:20251014T093154Z
UID:20726-1760699700-1760703300@sligolibrary.ie
SUMMARY:Maths Week Event - Sarah O'Keeffe - Sligo Central Library
DESCRIPTION:Maths Week Event with Sarah O’Keeffe. \nThis is a CLOSED event.
URL:https://sligolibrary.ie/event/maths-week-event-sarah-okeeffe-sligo-central-library-2/
LOCATION:Sligo Central Library
CATEGORIES:Sligo Central Library
END:VEVENT
BEGIN:VEVENT
DTSTART;TZID=UTC:20251017T123000
DTEND;TZID=UTC:20251017T133000
DTSTAMP:20260420T075923
CREATED:20250927T091556Z
LAST-MODIFIED:20250927T091556Z
UID:20657-1760704200-1760707800@sligolibrary.ie
SUMMARY:Ciorcal Comhrá - Sligo Library
DESCRIPTION:Bígí linn i Lárleabharlann Shligigh le haghaidh ár nGrúpa Comhrá Gaeilge gach seachtain. \nFáilte roimh gach leibhéal scile. \nNí gá áirithint a dhéanamh. \n~~~~~~~~~~~~~ \nJoin us in Sligo Central Library for our bi-weekly Irish Language Conversation Group. \nAll skill levels welcome. \nNo booking required.
URL:https://sligolibrary.ie/event/ciorcal-comhra-sligo-library-13/
LOCATION:Sligo Central Library
CATEGORIES:Sligo Central Library
END:VEVENT
BEGIN:VEVENT
DTSTART;TZID=UTC:20251018T113000
DTEND;TZID=UTC:20251018T123000
DTSTAMP:20260420T075923
CREATED:20250927T092308Z
LAST-MODIFIED:20250927T092308Z
UID:20669-1760787000-1760790600@sligolibrary.ie
SUMMARY:Game Club for Kids - Sligo Library
DESCRIPTION:Contact Sligo Library for more details. \n071 9111675 \nsligolib@sligococo.ie
URL:https://sligolibrary.ie/event/game-club-for-kids-sligo-library-3/
LOCATION:Sligo Central Library
CATEGORIES:Sligo Central Library
END:VEVENT
BEGIN:VEVENT
DTSTART;TZID=UTC:20251018T140000
DTEND;TZID=UTC:20251018T160000
DTSTAMP:20260420T075923
CREATED:20250830T142917Z
LAST-MODIFIED:20250830T142917Z
UID:20348-1760796000-1760803200@sligolibrary.ie
SUMMARY:Six-Part Creative Writing Workshop with Maeve McKenna (6 of 6)
DESCRIPTION: Memories Become Stories:  Six-Part Creative Writing Workshop with Maeve McKenna\n\n\n\n\n\nDo you have a memory you’d love to capture in words?\nJoin us at Sligo Library for a warm and welcoming series of creative writing workshops\, where we’ll explore cherished moments and stories from times gone by.\n\n\nNo prior writing experience is needed — just bring your memories and an open mind. These workshops are fun\, interactive\, and encouraging\, designed to help you discover your voice and enjoy the process of storytelling through prose and poetry.\n\n\n\n Sligo Central Library\, Stephen Street\, Sligo\n 2pm – 4pm\n Saturday 13th\, 20th\, 27th September & 4th\, 11th\, 18th October\n\n\n Booking is required.  Contact 071 9111675 or sligolib@sligococo.ie\n\n\n\nMaeve McKenna is a poet and creative writing facilitator living in Sligo. Her work has been published widely. She has an MA in Poetry from Queen’s University\, Belfast and is the author of two pamphlets\, A Dedication to Drowning and Body as a Home for this Darkness.\n\n\n\nThis workshop is supported by the Department of Culture\, Communications and Sport.
URL:https://sligolibrary.ie/event/six-part-creative-writing-workshop-with-maeve-mckenna-6-of-6/
LOCATION:Sligo Central Library
CATEGORIES:Sligo Central Library
END:VEVENT
END:VCALENDAR