BEGIN:VCALENDAR
VERSION:2.0
PRODID:-//Sligo Library - ECPv6.15.20//NONSGML v1.0//EN
CALSCALE:GREGORIAN
METHOD:PUBLISH
X-ORIGINAL-URL:https://sligolibrary.ie
X-WR-CALDESC:Events for Sligo Library
REFRESH-INTERVAL;VALUE=DURATION:PT1H
X-Robots-Tag:noindex
X-PUBLISHED-TTL:PT1H
BEGIN:VTIMEZONE
TZID:UTC
BEGIN:STANDARD
TZOFFSETFROM:+0000
TZOFFSETTO:+0000
TZNAME:UTC
DTSTART:20250101T000000
END:STANDARD
END:VTIMEZONE
BEGIN:VEVENT
DTSTART;TZID=UTC:20260302T200000
DTEND;TZID=UTC:20260302T220000
DTSTAMP:20260423T082111
CREATED:20260122T150929Z
LAST-MODIFIED:20260204T164921Z
UID:21423-1772481600-1772488800@sligolibrary.ie
SUMMARY:Tubbercurry Community Library - Crafting Group
DESCRIPTION:Monday crafting group in Tubbercurry Community Library \nMonday 8pm – 10pm (members must have My Open Library membership\, as this group meets outside of staffed hours). Fortnightly meetings. \nKnitting\, crochet\, hand sewing\, quilting\, needle felting\, embroidery\, cross stitching – all welcome! \nTo join\, contact Tubbercurry Community Library on 071 9111705\, message the Tubbercurry Community Library Facebook page or email tubberlibrary@sligococo.ie
URL:https://sligolibrary.ie/event/tubbercurry-crafting-group-2/
LOCATION:Tubbercurry Community Library\, Humbert Street\, Tubbercurry\, Sligo\, Ireland
CATEGORIES:Tubbercurry Community Library
END:VEVENT
BEGIN:VEVENT
DTSTART;TZID=UTC:20260303T110000
DTEND;TZID=UTC:20260303T120000
DTSTAMP:20260423T082111
CREATED:20260223T150514Z
LAST-MODIFIED:20260223T150514Z
UID:21834-1772535600-1772539200@sligolibrary.ie
SUMMARY:Sligo Library - Down's syndrome Book Club
DESCRIPTION:This is an open group and new joiners always welcome. If interested please contact Sligo Central Library \n\nContact 0719111675 or sligolib@sligococo.ie
URL:https://sligolibrary.ie/event/sligo-library-downs-syndrome-book-club/
LOCATION:Sligo Central Library
CATEGORIES:Sligo Central Library
END:VEVENT
BEGIN:VEVENT
DTSTART;TZID=UTC:20260303T150000
DTEND;TZID=UTC:20260303T160000
DTSTAMP:20260423T082111
CREATED:20260122T152352Z
LAST-MODIFIED:20260204T164845Z
UID:21459-1772550000-1772553600@sligolibrary.ie
SUMMARY:Ballymote Community Library - Ciorcal Comhrá
DESCRIPTION:Bígí linn i Lárleabharlann Baile an Mhóta ár nGrúpa Comhrá Gaeilge gach seachtain. \nFáilte roimh gach leibhéal scile. \nNí gá áirithint a dhéanamh. \n~~~~~~~~~~~~~ \nJoin us in Ballymote Library for our bi-weekly Irish Language Conversation Group. \nAll skill levels welcome. \nNo booking required.
URL:https://sligolibrary.ie/event/ballymote-ciorcal-comhra-2/
LOCATION:Ballymote Community Library\, Teeling Street\, Ballymote\, Ireland
CATEGORIES:Ballymote Community Library
END:VEVENT
BEGIN:VEVENT
DTSTART;TZID=UTC:20260305T103000
DTEND;TZID=UTC:20260305T123000
DTSTAMP:20260423T082111
CREATED:20260122T151545Z
LAST-MODIFIED:20260204T164927Z
UID:21441-1772706600-1772713800@sligolibrary.ie
SUMMARY:Tubbercurry Community Library - Crafting Group
DESCRIPTION:Thursday crafting group in Tubbercurry Community Library \nThursday 10.30am – 12.30pm. Fortnightly meetings. \nKnitting\, crochet\, hand sewing\, quilting\, needle felting\, embroidery\, cross stitching – all welcome! \nTo join\, contact Tubbercurry Community Library on 071 9111705\, message the Tubbercurry Community Library Facebook page or email tubberlibrary@sligococo.ie
URL:https://sligolibrary.ie/event/tubbercurry-crafting-group-copy/
LOCATION:Tubbercurry Community Library\, Humbert Street\, Tubbercurry\, Sligo\, Ireland
CATEGORIES:Tubbercurry Community Library
END:VEVENT
BEGIN:VEVENT
DTSTART;TZID=UTC:20260305T103000
DTEND;TZID=UTC:20260305T123000
DTSTAMP:20260423T082111
CREATED:20260223T150631Z
LAST-MODIFIED:20260223T150926Z
UID:21837-1772706600-1772713800@sligolibrary.ie
SUMMARY:Sligo Central Library - Kitchen Crafts with Marguerite
DESCRIPTION:Join us in Sligo Central Library and bring your knitting\, crochet\, drawing or your preferred creative endeavour for our open Kitchen Crafts workshop hosted by Marguerite. \n  \nBooking not required\, this is a drop in event open to the public.
URL:https://sligolibrary.ie/event/sligo-central-library-kitchen-crafts-with-marguerite/
LOCATION:Sligo Central Library
CATEGORIES:Sligo Central Library
END:VEVENT
BEGIN:VEVENT
DTSTART;TZID=UTC:20260305T110000
DTEND;TZID=UTC:20260305T120000
DTSTAMP:20260423T082111
CREATED:20260212T144109Z
LAST-MODIFIED:20260212T144109Z
UID:21763-1772708400-1772712000@sligolibrary.ie
SUMMARY:Ballymote Community Library - Toddler Play
DESCRIPTION:Toddler Play in Ballymote Community Library every Thursday!  \nIf you’re a parent of a baby/toddler\, make sure to join us in Ballymote Community Library every Thursday morning at 11am for our regular Toddler Play Time session! \nOn Thursdays\, our library does not open to the public until 12pm so your little one will have freedom to play\, make friends\, and express themselves in an open environment reserved exclusively for toddlers and their parents. \n\nFREE\nSuitable for ages 0-4\nNo booking required\nTea & coffee for adults
URL:https://sligolibrary.ie/event/ballymote-community-library-toddler-play-4/
LOCATION:Ballymote Community Library\, Teeling Street\, Ballymote\, Ireland
CATEGORIES:Ballymote Community Library
ATTACH;FMTTYPE=image/jpeg:https://sligolibrary.ie/wp-content/uploads/2026/01/Ballymote-Parent-Baby-Toddler-Time.jpg
END:VEVENT
BEGIN:VEVENT
DTSTART;TZID=UTC:20260306T100000
DTEND;TZID=UTC:20260306T110000
DTSTAMP:20260423T082111
CREATED:20260223T150727Z
LAST-MODIFIED:20260223T150953Z
UID:21840-1772791200-1772794800@sligolibrary.ie
SUMMARY:Sligo Central Library - Toddle Time Storytime
DESCRIPTION:Join us in Sligo Central Library for our regularly scheduled story time for babies and toddlers! \nSuitable for ages 0-4 \nNo booking required
URL:https://sligolibrary.ie/event/sligo-central-library-toddle-time-storytime-copy/
LOCATION:Sligo Central Library
CATEGORIES:Sligo Central Library
END:VEVENT
BEGIN:VEVENT
DTSTART;TZID=UTC:20260307T100000
DTEND;TZID=UTC:20260307T103000
DTSTAMP:20260423T082111
CREATED:20260306T143721Z
LAST-MODIFIED:20260306T143721Z
UID:21981-1772877600-1772879400@sligolibrary.ie
SUMMARY:Tubbercurry Community Library - Saturday Storytime
DESCRIPTION:Saturday Storytime! \nJoin Tubbercurry Community Library staff on Saturday 28th February at 10am for a toddler and baby storytime!  With fun stories\, floor play time\, and a chance for parents to meet up as well. \nTubbercurry Community Library 10am – 10:30am \nNo booking required!
URL:https://sligolibrary.ie/event/tubbercurry-community-library-saturday-storytime-2/
LOCATION:Tubbercurry Community Library\, Humbert Street\, Tubbercurry\, Sligo\, Ireland
CATEGORIES:Tubbercurry Community Library
END:VEVENT
BEGIN:VEVENT
DTSTART;TZID=UTC:20260307T143000
DTEND;TZID=UTC:20260307T160000
DTSTAMP:20260423T082111
CREATED:20260223T151221Z
LAST-MODIFIED:20260223T151221Z
UID:21859-1772893800-1772899200@sligolibrary.ie
SUMMARY:Sligo Central Library - Games Club
DESCRIPTION:An open event for children to drop into Sligo Central Library and have fun in our Busy Bees Area playing a variety of board games! \nOpen event and no booking required!
URL:https://sligolibrary.ie/event/sligo-central-library-games-club-2/
LOCATION:Sligo Central Library
CATEGORIES:Sligo Central Library
END:VEVENT
BEGIN:VEVENT
DTSTART;TZID=UTC:20260310T140000
DTEND;TZID=UTC:20260310T160000
DTSTAMP:20260423T082111
CREATED:20260223T152016Z
LAST-MODIFIED:20260223T152016Z
UID:21874-1773151200-1773158400@sligolibrary.ie
SUMMARY:Sligo Central Library - Creative Writing w/ Women’s Shed
DESCRIPTION:Closed event
URL:https://sligolibrary.ie/event/sligo-central-library-creative-writing-w-womens-shed-2/
LOCATION:Sligo Central Library
CATEGORIES:Sligo Central Library
END:VEVENT
BEGIN:VEVENT
DTSTART;TZID=UTC:20260311T100000
DTEND;TZID=UTC:20260311T110000
DTSTAMP:20260423T082111
CREATED:20260223T152110Z
LAST-MODIFIED:20260223T152110Z
UID:21877-1773223200-1773226800@sligolibrary.ie
SUMMARY:Sligo Central Library - St. Michael's Book Club
DESCRIPTION:If you are interested in starting your own book club contact Sligo Library at 071 9111675 or sligolib@sligococo.ie
URL:https://sligolibrary.ie/event/sligo-central-library-st-michaels-book-club/
LOCATION:Sligo Central Library
CATEGORIES:Sligo Central Library
END:VEVENT
BEGIN:VEVENT
DTSTART;TZID=UTC:20260311T190000
DTEND;TZID=UTC:20260311T210000
DTSTAMP:20260423T082111
CREATED:20260204T162924Z
LAST-MODIFIED:20260204T164933Z
UID:21614-1773255600-1773262800@sligolibrary.ie
SUMMARY:Tubbercurry Community Library - Ciorcal Comhrá
DESCRIPTION:Ciorcal Comhrá in Tubbercurry Community Library \nWednesday 7pm – 9pm (members must have My Open Library membership\, as this group meets outside of staffed hours). Fortnightly meetings. \nInformal conversation as Gaeilge. All levels welcome. \nTo join\, contact Tubbercurry Community Library on 071 9111705\, message the Tubbercurry Community Library Facebook page or email tubberlibrary@sligococo.ie
URL:https://sligolibrary.ie/event/tubbercurry-ciorcal-comhra-3/
LOCATION:Tubbercurry Community Library\, Humbert Street\, Tubbercurry\, Sligo\, Ireland
CATEGORIES:Tubbercurry Community Library
END:VEVENT
BEGIN:VEVENT
DTSTART;TZID=UTC:20260312T103000
DTEND;TZID=UTC:20260312T123000
DTSTAMP:20260423T082111
CREATED:20260223T152208Z
LAST-MODIFIED:20260223T152208Z
UID:21880-1773311400-1773318600@sligolibrary.ie
SUMMARY:Sligo Central Library - Kitchen Crafts with Marguerite
DESCRIPTION:Join us in Sligo Central Library and bring your knitting\, crochet\, drawing or your preferred creative endeavour for our open Kitchen Crafts workshop hosted by Marguerite. \n  \nBooking not required\, this is a drop in event open to the public.
URL:https://sligolibrary.ie/event/sligo-central-library-kitchen-crafts-with-marguerite-2/
LOCATION:Sligo Central Library
CATEGORIES:Sligo Central Library
END:VEVENT
BEGIN:VEVENT
DTSTART;TZID=UTC:20260312T110000
DTEND;TZID=UTC:20260312T120000
DTSTAMP:20260423T082111
CREATED:20260212T144143Z
LAST-MODIFIED:20260212T144143Z
UID:21766-1773313200-1773316800@sligolibrary.ie
SUMMARY:Ballymote Community Library - Toddler Play
DESCRIPTION:Toddler Play in Ballymote Community Library every Thursday!  \nIf you’re a parent of a baby/toddler\, make sure to join us in Ballymote Community Library every Thursday morning at 11am for our regular Toddler Play Time session! \nOn Thursdays\, our library does not open to the public until 12pm so your little one will have freedom to play\, make friends\, and express themselves in an open environment reserved exclusively for toddlers and their parents. \n\nFREE\nSuitable for ages 0-4\nNo booking required\nTea & coffee for adults
URL:https://sligolibrary.ie/event/ballymote-community-library-toddler-play-5/
LOCATION:Ballymote Community Library\, Teeling Street\, Ballymote\, Ireland
CATEGORIES:Ballymote Community Library
ATTACH;FMTTYPE=image/jpeg:https://sligolibrary.ie/wp-content/uploads/2026/01/Ballymote-Parent-Baby-Toddler-Time.jpg
END:VEVENT
BEGIN:VEVENT
DTSTART;TZID=UTC:20260312T140000
DTEND;TZID=UTC:20260312T160000
DTSTAMP:20260423T082111
CREATED:20260306T144448Z
LAST-MODIFIED:20260306T144448Z
UID:22006-1773324000-1773331200@sligolibrary.ie
SUMMARY:Sligo Central Library - Digital Skills Class with MSLETB
DESCRIPTION:Receive one-to-one instruction on basic digital skills such as computer\, phone and tablet use. \n  \n*Current class is full* \nIf interested in future classes please contact Sligo Central Library at: \n0719111675 \nsligolib@sligococo.ie
URL:https://sligolibrary.ie/event/sligo-central-library-digital-skills-class-with-msletb/
LOCATION:Sligo Central Library
CATEGORIES:Sligo Central Library
END:VEVENT
BEGIN:VEVENT
DTSTART;TZID=UTC:20260312T170000
DTEND;TZID=UTC:20260312T190000
DTSTAMP:20260423T082111
CREATED:20260306T142914Z
LAST-MODIFIED:20260306T142914Z
UID:21960-1773334800-1773342000@sligolibrary.ie
SUMMARY:Ballymote Community Library - Documentary Club
DESCRIPTION:Participants watch a documentary together\, followed by a group discussion\, encouraging conversation\, reflection\, and shared perspectives.
URL:https://sligolibrary.ie/event/ballymote-community-library-documentary-club/
LOCATION:Ballymote Community Library\, Teeling Street\, Ballymote\, Ireland
CATEGORIES:Ballymote Community Library
END:VEVENT
BEGIN:VEVENT
DTSTART;TZID=UTC:20260313T100000
DTEND;TZID=UTC:20260313T110000
DTSTAMP:20260423T082111
CREATED:20260223T150825Z
LAST-MODIFIED:20260223T150825Z
UID:21843-1773396000-1773399600@sligolibrary.ie
SUMMARY:Sligo Central Library - Toddle Time Storytime
DESCRIPTION:Join us in Sligo Central Library for our regularly scheduled story time for babies and toddlers! \nSuitable for ages 0-4 \nNo booking required
URL:https://sligolibrary.ie/event/sligo-central-library-toddle-time-storytime/
LOCATION:Sligo Central Library
CATEGORIES:Sligo Central Library
END:VEVENT
BEGIN:VEVENT
DTSTART;TZID=UTC:20260313T123000
DTEND;TZID=UTC:20260313T133000
DTSTAMP:20260423T082111
CREATED:20260127T102728Z
LAST-MODIFIED:20260210T145359Z
UID:21547-1773405000-1773408600@sligolibrary.ie
SUMMARY:Sligo Central Library - Ciorcal Comhra
DESCRIPTION:Bígí linn i Lárleabharlann Shligigh le haghaidh ár nGrúpa Comhrá Gaeilge gach seachtain. \nFáilte roimh gach leibhéal scile. \nNí gá áirithint a dhéanamh. \n~~~~~~~~~~~~~ \nJoin us in Sligo Central Library for our bi-weekly Irish Language Conversation Group. \nAll skill levels welcome. \nNo booking required.
URL:https://sligolibrary.ie/event/sligo-library-ciorcal-comhra-4/
LOCATION:Sligo Central Library
CATEGORIES:Sligo Central Library
END:VEVENT
BEGIN:VEVENT
DTSTART;TZID=UTC:20260314T100000
DTEND;TZID=UTC:20260314T103000
DTSTAMP:20260423T082111
CREATED:20260306T143820Z
LAST-MODIFIED:20260306T143820Z
UID:21985-1773482400-1773484200@sligolibrary.ie
SUMMARY:Tubbercurry Community Library - Saturday Storytime
DESCRIPTION:Saturday Storytime! \nJoin Tubbercurry Community Library staff on Saturday 28th February at 10am for a toddler and baby storytime!  With fun stories\, floor play time\, and a chance for parents to meet up as well. \nTubbercurry Community Library 10am – 10:30am \nNo booking required!
URL:https://sligolibrary.ie/event/tubbercurry-community-library-saturday-storytime-3/
LOCATION:Tubbercurry Community Library\, Humbert Street\, Tubbercurry\, Sligo\, Ireland
CATEGORIES:Tubbercurry Community Library
END:VEVENT
BEGIN:VEVENT
DTSTART;TZID=UTC:20260314T143000
DTEND;TZID=UTC:20260314T163000
DTSTAMP:20260423T082111
CREATED:20260223T151304Z
LAST-MODIFIED:20260223T151636Z
UID:21862-1773498600-1773505800@sligolibrary.ie
SUMMARY:Sligo Central Library - Games Club
DESCRIPTION:An open event for children to drop into Sligo Central Library and have fun in our Busy Bees Area playing a variety of board games! \nOpen event and no booking required!
URL:https://sligolibrary.ie/event/sligo-central-library-games-club-3/
LOCATION:Sligo Central Library
CATEGORIES:Sligo Central Library
END:VEVENT
BEGIN:VEVENT
DTSTART;TZID=UTC:20260316T200000
DTEND;TZID=UTC:20260316T220000
DTSTAMP:20260423T082111
CREATED:20260122T151052Z
LAST-MODIFIED:20260204T164938Z
UID:21427-1773691200-1773698400@sligolibrary.ie
SUMMARY:Tubbercurry Community Library - Crafting Group
DESCRIPTION:Monday crafting group in Tubbercurry Community Library \nMonday 8pm – 10pm (members must have My Open Library membership\, as this group meets outside of staffed hours). Fortnightly meetings. \nKnitting\, crochet\, hand sewing\, quilting\, needle felting\, embroidery\, cross stitching – all welcome! \nTo join\, contact Tubbercurry Community Library on 071 9111705\, message the Tubbercurry Community Library Facebook page or email tubberlibrary@sligococo.ie
URL:https://sligolibrary.ie/event/tubbercurry-crafting-group-4/
LOCATION:Tubbercurry Community Library\, Humbert Street\, Tubbercurry\, Sligo\, Ireland
CATEGORIES:Tubbercurry Community Library
END:VEVENT
BEGIN:VEVENT
DTSTART;VALUE=DATE:20260317
DTEND;VALUE=DATE:20260318
DTSTAMP:20260423T082111
CREATED:20260312T110239Z
LAST-MODIFIED:20260312T110239Z
UID:22044-1773705600-1773791999@sligolibrary.ie
SUMMARY:PUBLIC HOLIDAY CLOSURE
DESCRIPTION:Beidh gach brainse de Leabharlann Chontae Shligigh dúnta Dé Máirt 17ú Márta 2026 don Lá Saoire Poiblí. \nAll Sligo County Library Branches will be closed on Tuesday 17th March 2026 for the Public Holiday.
URL:https://sligolibrary.ie/event/public-holiday-closure-5/
CATEGORIES:Ballymote Community Library,Sligo Central Library,Tubbercurry Community Library
END:VEVENT
BEGIN:VEVENT
DTSTART;TZID=UTC:20260319T103000
DTEND;TZID=UTC:20260319T123000
DTSTAMP:20260423T082111
CREATED:20260122T151615Z
LAST-MODIFIED:20260204T164944Z
UID:21444-1773916200-1773923400@sligolibrary.ie
SUMMARY:Tubbercurry Community Library - Crafting Group
DESCRIPTION:Thursday crafting group in Tubbercurry Community Library \nThursday 10.30am – 12.30pm. Fortnightly meetings. \nKnitting\, crochet\, hand sewing\, quilting\, needle felting\, embroidery\, cross stitching – all welcome! \nTo join\, contact Tubbercurry Community Library on 071 9111705\, message the Tubbercurry Community Library Facebook page or email tubberlibrary@sligococo.ie
URL:https://sligolibrary.ie/event/tubbercurry-crafting-group-8/
LOCATION:Tubbercurry Community Library\, Humbert Street\, Tubbercurry\, Sligo\, Ireland
CATEGORIES:Tubbercurry Community Library
END:VEVENT
BEGIN:VEVENT
DTSTART;TZID=UTC:20260319T103000
DTEND;TZID=UTC:20260319T143000
DTSTAMP:20260423T082111
CREATED:20260223T152250Z
LAST-MODIFIED:20260223T152250Z
UID:21883-1773916200-1773930600@sligolibrary.ie
SUMMARY:Sligo Central Library - Kitchen Crafts with Marguerite
DESCRIPTION:Join us in Sligo Central Library and bring your knitting\, crochet\, drawing or your preferred creative endeavour for our open Kitchen Crafts workshop hosted by Marguerite. \n  \nBooking not required\, this is a drop in event open to the public.
URL:https://sligolibrary.ie/event/sligo-central-library-kitchen-crafts-with-marguerite-3/
LOCATION:Sligo Central Library
CATEGORIES:Sligo Central Library
END:VEVENT
BEGIN:VEVENT
DTSTART;TZID=UTC:20260319T110000
DTEND;TZID=UTC:20260319T120000
DTSTAMP:20260423T082111
CREATED:20260212T144215Z
LAST-MODIFIED:20260212T144215Z
UID:21769-1773918000-1773921600@sligolibrary.ie
SUMMARY:Ballymote Community Library - Toddler Play
DESCRIPTION:Toddler Play in Ballymote Community Library every Thursday!  \nIf you’re a parent of a baby/toddler\, make sure to join us in Ballymote Community Library every Thursday morning at 11am for our regular Toddler Play Time session! \nOn Thursdays\, our library does not open to the public until 12pm so your little one will have freedom to play\, make friends\, and express themselves in an open environment reserved exclusively for toddlers and their parents. \n\nFREE\nSuitable for ages 0-4\nNo booking required\nTea & coffee for adults
URL:https://sligolibrary.ie/event/ballymote-community-library-toddler-play-6/
LOCATION:Ballymote Community Library\, Teeling Street\, Ballymote\, Ireland
CATEGORIES:Ballymote Community Library
ATTACH;FMTTYPE=image/jpeg:https://sligolibrary.ie/wp-content/uploads/2026/01/Ballymote-Parent-Baby-Toddler-Time.jpg
END:VEVENT
BEGIN:VEVENT
DTSTART;TZID=UTC:20260319T140000
DTEND;TZID=UTC:20260319T160000
DTSTAMP:20260423T082111
CREATED:20260306T144523Z
LAST-MODIFIED:20260306T144523Z
UID:22009-1773928800-1773936000@sligolibrary.ie
SUMMARY:Sligo Central Library - Digital Skills Class with MSLETB
DESCRIPTION:Receive one-to-one instruction on basic digital skills such as computer\, phone and tablet use. \n  \n*Current class is full* \nIf interested in future classes please contact Sligo Central Library at: \n0719111675 \nsligolib@sligococo.ie
URL:https://sligolibrary.ie/event/sligo-central-library-digital-skills-class-with-msletb-2/
LOCATION:Sligo Central Library
CATEGORIES:Sligo Central Library
END:VEVENT
BEGIN:VEVENT
DTSTART;TZID=UTC:20260319T170000
DTEND;TZID=UTC:20260319T190000
DTSTAMP:20260423T082111
CREATED:20260306T142948Z
LAST-MODIFIED:20260306T142948Z
UID:21963-1773939600-1773946800@sligolibrary.ie
SUMMARY:Ballymote Community Library - Documentary Club
DESCRIPTION:Participants watch a documentary together\, followed by a group discussion\, encouraging conversation\, reflection\, and shared perspectives.
URL:https://sligolibrary.ie/event/ballymote-community-library-documentary-club-2/
LOCATION:Ballymote Community Library\, Teeling Street\, Ballymote\, Ireland
CATEGORIES:Ballymote Community Library
END:VEVENT
BEGIN:VEVENT
DTSTART;TZID=UTC:20260320T100000
DTEND;TZID=UTC:20260320T110000
DTSTAMP:20260423T082111
CREATED:20260223T151025Z
LAST-MODIFIED:20260223T151025Z
UID:21850-1774000800-1774004400@sligolibrary.ie
SUMMARY:Sligo Central Library - Toddle Time Storytime
DESCRIPTION:Join us in Sligo Central Library for our regularly scheduled story time for babies and toddlers! \nSuitable for ages 0-4 \nNo booking required
URL:https://sligolibrary.ie/event/sligo-central-library-toddle-time-storytime-2/
LOCATION:Sligo Central Library
CATEGORIES:Sligo Central Library
END:VEVENT
BEGIN:VEVENT
DTSTART;TZID=UTC:20260321T100000
DTEND;TZID=UTC:20260321T103000
DTSTAMP:20260423T082111
CREATED:20260306T143854Z
LAST-MODIFIED:20260306T143854Z
UID:21988-1774087200-1774089000@sligolibrary.ie
SUMMARY:Tubbercurry Community Library - Saturday Storytime
DESCRIPTION:Saturday Storytime! \nJoin Tubbercurry Community Library staff on Saturday 28th February at 10am for a toddler and baby storytime!  With fun stories\, floor play time\, and a chance for parents to meet up as well. \nTubbercurry Community Library 10am – 10:30am \nNo booking required!
URL:https://sligolibrary.ie/event/tubbercurry-community-library-saturday-storytime-4/
LOCATION:Tubbercurry Community Library\, Humbert Street\, Tubbercurry\, Sligo\, Ireland
CATEGORIES:Tubbercurry Community Library
END:VEVENT
BEGIN:VEVENT
DTSTART;TZID=UTC:20260321T143000
DTEND;TZID=UTC:20260321T163000
DTSTAMP:20260423T082111
CREATED:20260223T151427Z
LAST-MODIFIED:20260223T151706Z
UID:21865-1774103400-1774110600@sligolibrary.ie
SUMMARY:Sligo Central Library - Games Club
DESCRIPTION:An open event for children to drop into Sligo Central Library and have fun in our Busy Bees Area playing a variety of board games! \nOpen event and no booking required!
URL:https://sligolibrary.ie/event/sligo-central-library-games-club-4/
LOCATION:Sligo Central Library
CATEGORIES:Sligo Central Library
END:VEVENT
END:VCALENDAR